BEGIN:VCALENDAR
VERSION:2.0
PRODID:-//Virginia Outdoors Foundation - ECPv6.15.20//NONSGML v1.0//EN
CALSCALE:GREGORIAN
METHOD:PUBLISH
X-WR-CALNAME:Virginia Outdoors Foundation
X-ORIGINAL-URL:https://www.vof.org
X-WR-CALDESC:Events for Virginia Outdoors Foundation
REFRESH-INTERVAL;VALUE=DURATION:PT1H
X-Robots-Tag:noindex
X-PUBLISHED-TTL:PT1H
BEGIN:VTIMEZONE
TZID:America/New_York
BEGIN:DAYLIGHT
TZOFFSETFROM:-0500
TZOFFSETTO:-0400
TZNAME:EDT
DTSTART:20150308T070000
END:DAYLIGHT
BEGIN:STANDARD
TZOFFSETFROM:-0400
TZOFFSETTO:-0500
TZNAME:EST
DTSTART:20151101T060000
END:STANDARD
BEGIN:DAYLIGHT
TZOFFSETFROM:-0500
TZOFFSETTO:-0400
TZNAME:EDT
DTSTART:20160313T070000
END:DAYLIGHT
BEGIN:STANDARD
TZOFFSETFROM:-0400
TZOFFSETTO:-0500
TZNAME:EST
DTSTART:20161106T060000
END:STANDARD
BEGIN:DAYLIGHT
TZOFFSETFROM:-0500
TZOFFSETTO:-0400
TZNAME:EDT
DTSTART:20170312T070000
END:DAYLIGHT
BEGIN:STANDARD
TZOFFSETFROM:-0400
TZOFFSETTO:-0500
TZNAME:EST
DTSTART:20171105T060000
END:STANDARD
END:VTIMEZONE
BEGIN:VEVENT
DTSTART;TZID=America/New_York:20160723T133000
DTEND;TZID=America/New_York:20160723T170000
DTSTAMP:20260419T144852
CREATED:20160314T160826Z
LAST-MODIFIED:20160314T160826Z
UID:10000025-1469280600-1469293200@www.vof.org
SUMMARY:Celebrating 50 Years of Conservation in the Shenandoah Valley
DESCRIPTION:VOF invites partners and landowners to celebrate 50 years of conservation achievements in the Shenandoah Valley Region at Shenandoah State Park in Warren County. \nNOTE: When you arrive at the gate\, tell the parking attendant that you are there for the VOF 50th Celebration. Parking fees have been kindly waived for our event by the Department of Conservation and Recreation. \nWe will be meeting at the Massanutten Shelter. \nProgram Highlights\n\nHonored guests and speakers will welcome us. Homemade ice cream and homemade Italian ice catered by C&C Frozen Treats of Front Royal.\nVOF’s Laura Thurman will lead us on the trail to Culler’s Overlook that offers a magnificent view of the Shenandoah River and Massanutten mountains.\nMultiple easement donor Bruce Ingram will be signing copies of his new books titled Living the Locavore Lifestyle and James River Guide. To learn more about the author and his books\, visit https://sites.google.com/site/bruceingramoutdoors/.\nOrganized VOF activities will occur until around 3:00 pm. We hope that all will visit with guests and take advantage of the park offerings thereafter.\nMany trails exist throughout the park for strolling\, hiking or biking. Further information on the trails can be found here.\nThe Shenandoah River is a popular destination for canoeing and kayaking. The park has 5.2 miles of river frontage\, with many areas available for launching canoes\, kayaks and tubes. The river is fairly shallow and there are no major rapids (nothing above class 2 typically). The park does not offer boat rentals. Virginia Canopy Tours near our Massanutten Shelter will rent river tubes and host zipline tours. Visit the Virginia Canopy Tours website to make reservations!\nFor those interested\, the park will begin a Hooked on Fishing program at 5:00 pm at the main canoe launch area. Bring your own rod if you’d like to participate. Details about this activity can be found here.\n\n \n  \n  \nRegister now
URL:https://www.vof.org/event/celebrating-50-years-conservation-shenandoah-valley/
LOCATION:Shenandoah River State Park\, 350 Daughter of Stars Dr\, Bentonville\, VA\, 22610\, United States
CATEGORIES:50th Anniversary
ATTACH;FMTTYPE=image/jpeg:https://www.vof.org/wp-content/uploads/2016/03/First_Day_of_Spring_at_Shenandoah_River_State_Park_8553737401-e1458145722332.jpg
ORGANIZER;CN="Bobbie Cabibbo":MAILTO:bcabibbo@vof.org
GEO:38.847525;-78.302095
X-APPLE-STRUCTURED-LOCATION;VALUE=URI;X-ADDRESS=Shenandoah River State Park 350 Daughter of Stars Dr Bentonville VA 22610 United States;X-APPLE-RADIUS=500;X-TITLE=350 Daughter of Stars Dr:geo:-78.302095,38.847525
END:VEVENT
END:VCALENDAR