BEGIN:VCALENDAR
VERSION:2.0
PRODID:-//Virginia Outdoors Foundation - ECPv6.15.20//NONSGML v1.0//EN
CALSCALE:GREGORIAN
METHOD:PUBLISH
X-WR-CALNAME:Virginia Outdoors Foundation
X-ORIGINAL-URL:https://www.vof.org
X-WR-CALDESC:Events for Virginia Outdoors Foundation
REFRESH-INTERVAL;VALUE=DURATION:PT1H
X-Robots-Tag:noindex
X-PUBLISHED-TTL:PT1H
BEGIN:VTIMEZONE
TZID:America/New_York
BEGIN:DAYLIGHT
TZOFFSETFROM:-0500
TZOFFSETTO:-0400
TZNAME:EDT
DTSTART:20170312T070000
END:DAYLIGHT
BEGIN:STANDARD
TZOFFSETFROM:-0400
TZOFFSETTO:-0500
TZNAME:EST
DTSTART:20171105T060000
END:STANDARD
BEGIN:DAYLIGHT
TZOFFSETFROM:-0500
TZOFFSETTO:-0400
TZNAME:EDT
DTSTART:20180311T070000
END:DAYLIGHT
BEGIN:STANDARD
TZOFFSETFROM:-0400
TZOFFSETTO:-0500
TZNAME:EST
DTSTART:20181104T060000
END:STANDARD
BEGIN:DAYLIGHT
TZOFFSETFROM:-0500
TZOFFSETTO:-0400
TZNAME:EDT
DTSTART:20190310T070000
END:DAYLIGHT
BEGIN:STANDARD
TZOFFSETFROM:-0400
TZOFFSETTO:-0500
TZNAME:EST
DTSTART:20191103T060000
END:STANDARD
BEGIN:DAYLIGHT
TZOFFSETFROM:-0500
TZOFFSETTO:-0400
TZNAME:EDT
DTSTART:20200308T070000
END:DAYLIGHT
BEGIN:STANDARD
TZOFFSETFROM:-0400
TZOFFSETTO:-0500
TZNAME:EST
DTSTART:20201101T060000
END:STANDARD
END:VTIMEZONE
BEGIN:VEVENT
DTSTART;TZID=America/New_York:20190827T100000
DTEND;TZID=America/New_York:20190827T160000
DTSTAMP:20260421T040931
CREATED:20190819T192640Z
LAST-MODIFIED:20190819T192910Z
UID:10000094-1566900000-1566921600@www.vof.org
SUMMARY:Special Forestry Committee
DESCRIPTION:The Special Forestry Committee will meet to discuss projects and policies related to the Forest CORE Fund (MVP Region) grant program. This is a public meeting. \nIf you would like to submit written public comments for anything related to this meeting\, please use our online form\, email them to comments@vofonline.org or mail them to our Warrenton office. Comments must include your name\, address\, and daytime phone number for verification purposes\, or they will not be accepted as part of the official meeting record. \nMeeting Documents\n		[letsbox dir=”84990685418″ mode=”files” viewrole=”administrator|editor|author|contributor|subscriber|guest” downloadrole=”all” filelayout=”list” ]
URL:https://www.vof.org/event/special-forestry-committee/
LOCATION:Main Street Centre (24th Floor Conference Room)\, 600 East Main St.\, 24th Floor\, Richmond\, VA\, 23219\, United States
CATEGORIES:Committee Meeting
ORGANIZER;CN="Emily White":MAILTO:ewhite@vofonline.org
GEO:37.5399487;-77.4385057
X-APPLE-STRUCTURED-LOCATION;VALUE=URI;X-ADDRESS=Main Street Centre (24th Floor Conference Room) 600 East Main St. 24th Floor Richmond VA 23219 United States;X-APPLE-RADIUS=500;X-TITLE=600 East Main St.\, 24th Floor:geo:-77.4385057,37.5399487
END:VEVENT
BEGIN:VEVENT
DTSTART;TZID=America/New_York:20190523T130000
DTEND;TZID=America/New_York:20190523T160000
DTSTAMP:20260421T040931
CREATED:20190509T160811Z
LAST-MODIFIED:20190807T151800Z
UID:10000110-1558616400-1558627200@www.vof.org
SUMMARY:Energy and Infrastructure Committee
DESCRIPTION:The VOF Energy and Infrastructure Committee will discuss policies and issues involving energy and infrastructure projects that affect VOF-protected land. This is a public meeting. \nIf you would like to submit written public comments for anything related to this meeting\, please use our online form\, email them to comments@vofonline.org or mail them to our Warrenton office. Comments must include your name\, address\, and daytime phone number for verification purposes\, or they will not be accepted as part of the official meeting record. \nMeeting Documents\n[letsbox dir=”81127628317″ mode=”files” viewrole=”administrator|editor|author|contributor|subscriber|guest” downloadrole=”all” filelayout=”list”]
URL:https://www.vof.org/event/energy-and-infrastructure-committee/
LOCATION:Main Street Centre (24th Floor Conference Room)\, 600 East Main St.\, 24th Floor\, Richmond\, VA\, 23219\, United States
CATEGORIES:Committee Meeting
ORGANIZER;CN="Bobbie Cabibbo":MAILTO:bcabibbo@vof.org
GEO:37.5399487;-77.4385057
X-APPLE-STRUCTURED-LOCATION;VALUE=URI;X-ADDRESS=Main Street Centre (24th Floor Conference Room) 600 East Main St. 24th Floor Richmond VA 23219 United States;X-APPLE-RADIUS=500;X-TITLE=600 East Main St.\, 24th Floor:geo:-77.4385057,37.5399487
END:VEVENT
BEGIN:VEVENT
DTSTART;TZID=America/New_York:20181115T110000
DTEND;TZID=America/New_York:20181115T140000
DTSTAMP:20260421T040931
CREATED:20180924T135725Z
LAST-MODIFIED:20190819T193041Z
UID:10000016-1542279600-1542290400@www.vof.org
SUMMARY:Special Forestry Committee
DESCRIPTION:The Special Forestry Committee will meet to discuss projects and policies related to the Forest CORE Fund (MVP Region) grant program. This is a public meeting. \nIf you would like to submit written public comments for anything related to this meeting\, please use our online form\, email them to comments@vofonline.org or mail them to our Warrenton office. Comments must include your name\, address\, and daytime phone number for verification purposes\, or they will not be accepted as part of the official meeting record. \nMeeting Documents\n		[letsbox dir=”72365674787″ mode=”files” viewrole=”administrator|editor|author|contributor|subscriber|guest” downloadrole=”all” filelayout=”list” ]
URL:https://www.vof.org/event/november-2018-special-forestry-committee-meeting/
LOCATION:Main Street Centre (24th Floor Conference Room)\, 600 East Main St.\, 24th Floor\, Richmond\, VA\, 23219\, United States
CATEGORIES:Committee Meeting
ORGANIZER;CN="Bobbie Cabibbo":MAILTO:bcabibbo@vof.org
GEO:37.5399487;-77.4385057
X-APPLE-STRUCTURED-LOCATION;VALUE=URI;X-ADDRESS=Main Street Centre (24th Floor Conference Room) 600 East Main St. 24th Floor Richmond VA 23219 United States;X-APPLE-RADIUS=500;X-TITLE=600 East Main St.\, 24th Floor:geo:-77.4385057,37.5399487
END:VEVENT
BEGIN:VEVENT
DTSTART;TZID=America/New_York:20180621T100000
DTEND;TZID=America/New_York:20180621T170000
DTSTAMP:20260421T040931
CREATED:20171215T213211Z
LAST-MODIFIED:20190714T220828Z
UID:10000093-1529575200-1529600400@www.vof.org
SUMMARY:Board of Trustees
DESCRIPTION:The VOF Board of Trustees will meet to discuss and take action on projects\, policies\, and related matters. This is a public meeting. \nGuests must enter Main Street Centre using the 7th Street entrance\, and bring photo ID to check in at the security desk. \nIf you would like to submit written public comments for anything related to this meeting\, please use our online form\, email them to comments@vofonline.org or mail them to our Warrenton office. Please include your name\, address\, and email address or daytime phone number for verification purposes. \nMeeting Documents\n[wpfilebase tag=list id=84 tpl=data-table pagenav=1 /]
URL:https://www.vof.org/event/june-2018-board-trustees-meeting/
LOCATION:Main Street Centre (24th Floor Conference Room)\, 600 East Main St.\, 24th Floor\, Richmond\, VA\, 23219\, United States
CATEGORIES:Board Meeting
ORGANIZER;CN="Bobbie Cabibbo":MAILTO:bcabibbo@vof.org
GEO:37.5399487;-77.4385057
X-APPLE-STRUCTURED-LOCATION;VALUE=URI;X-ADDRESS=Main Street Centre (24th Floor Conference Room) 600 East Main St. 24th Floor Richmond VA 23219 United States;X-APPLE-RADIUS=500;X-TITLE=600 East Main St.\, 24th Floor:geo:-77.4385057,37.5399487
END:VEVENT
END:VCALENDAR