BEGIN:VCALENDAR
VERSION:2.0
PRODID:-//Virginia Outdoors Foundation - ECPv6.15.20//NONSGML v1.0//EN
CALSCALE:GREGORIAN
METHOD:PUBLISH
X-ORIGINAL-URL:https://www.vof.org
X-WR-CALDESC:Events for Virginia Outdoors Foundation
REFRESH-INTERVAL;VALUE=DURATION:PT1H
X-Robots-Tag:noindex
X-PUBLISHED-TTL:PT1H
BEGIN:VTIMEZONE
TZID:America/New_York
BEGIN:DAYLIGHT
TZOFFSETFROM:-0500
TZOFFSETTO:-0400
TZNAME:EDT
DTSTART:20190310T070000
END:DAYLIGHT
BEGIN:STANDARD
TZOFFSETFROM:-0400
TZOFFSETTO:-0500
TZNAME:EST
DTSTART:20191103T060000
END:STANDARD
BEGIN:DAYLIGHT
TZOFFSETFROM:-0500
TZOFFSETTO:-0400
TZNAME:EDT
DTSTART:20200308T070000
END:DAYLIGHT
BEGIN:STANDARD
TZOFFSETFROM:-0400
TZOFFSETTO:-0500
TZNAME:EST
DTSTART:20201101T060000
END:STANDARD
BEGIN:DAYLIGHT
TZOFFSETFROM:-0500
TZOFFSETTO:-0400
TZNAME:EDT
DTSTART:20210314T070000
END:DAYLIGHT
BEGIN:STANDARD
TZOFFSETFROM:-0400
TZOFFSETTO:-0500
TZNAME:EST
DTSTART:20211107T060000
END:STANDARD
BEGIN:DAYLIGHT
TZOFFSETFROM:-0500
TZOFFSETTO:-0400
TZNAME:EDT
DTSTART:20220313T070000
END:DAYLIGHT
BEGIN:STANDARD
TZOFFSETFROM:-0400
TZOFFSETTO:-0500
TZNAME:EST
DTSTART:20221106T060000
END:STANDARD
END:VTIMEZONE
BEGIN:VEVENT
DTSTART;TZID=America/New_York:20210914T103000
DTEND;TZID=America/New_York:20210914T130000
DTSTAMP:20260421T155143
CREATED:20210812T190451Z
LAST-MODIFIED:20210903T130341Z
UID:10000036-1631615400-1631624400@www.vof.org
SUMMARY:Board of Trustees
DESCRIPTION:Note: This meeting will have limited in-person attendance due to COVID-19 and will be livestreamed. Livestream details are posted below. The VOF Board of Trustees will meet to discuss and take action on projects\, policies\, and related matters. This is a public meeting. If you would like to submit written public comments for anything related to this meeting\, please use our online form\, email them to comments@vof.org or mail them to our Warrenton office. Please include your name\, address\, and email address or daytime phone number for verification purposes.\nPlease click the link below to join the webinar:\nhttps://us06web.zoom.us/j/81219211991\nOr Telephone:\nDial(for higher quality\, dial a number based on your current location):\nUS: +1 312 626 6799 or +1 646 558 8656 or +1 301 715 8592\nWebinar ID: 812 1921 1991		 \nDocuments\n		[letsbox dir=”144965230218″ mode=”files” viewrole=”administrator|author|contributor|editor|subscriber|guest” downloadrole=”all” filelayout=”list” ]
URL:https://www.vof.org/event/board-of-trustees-7/
LOCATION:Hilton Garden Inn Charlottesville\, 1793 Richmond Rd\, Charlottesville\, VA\, 22911\, United States
CATEGORIES:Board Meeting
ORGANIZER;CN="Bobbie Cabibbo":MAILTO:bcabibbo@vof.org
END:VEVENT
BEGIN:VEVENT
DTSTART;TZID=America/New_York:20200924T110000
DTEND;TZID=America/New_York:20200924T160000
DTSTAMP:20260421T155143
CREATED:20200226T171252Z
LAST-MODIFIED:20200922T133515Z
UID:10000099-1600945200-1600963200@www.vof.org
SUMMARY:Board of Trustees
DESCRIPTION:The VOF Board of Trustees will meet to discuss and take action on projects\, policies\, and related matters. This is a public meeting with face masks required and limited capacity to maintain social distancing. Due to COVID-19 restrictions\, we encourage members of the public who wish to provide public comments to submit them through our online form\, email them to comments@vof.org or mail them to our Warrenton office. Please include your name\, address\, and email address or daytime phone number for verification purposes. Comments will be read aloud during the meeting. \nListen via Zoom\nMembers of the public who wish to listen to this meeting electronically may do so via Zoom at the following link: https://zoom.us/j/95684338617?pwd=QWxlWGFXaWhxdCtlMml1ZGxOKzZWZz09. Passcode: 706197. \nOr Telephone: \n    Dial (for higher quality\, dial a number based on your current location): \n        US: +1 301 715 8592  or +1 312 626 6799  or +1 646 558 8656  or +1 253 215 8782  or +1 346 248 7799  or +1 669 900 9128 \nWebinar ID: 956 8433 8617 \nPasscode: 706197 \nDocuments\n		[letsbox dir=”122716347827″ mode=”files” viewrole=”administrator|author|contributor|editor|subscriber|guest” downloadrole=”all” filelayout=”list” ]
URL:https://www.vof.org/event/board-of-trustees-3/
LOCATION:Hilton Garden Inn Charlottesville\, 1793 Richmond Rd\, Charlottesville\, VA\, 22911\, United States
CATEGORIES:Board Meeting
ORGANIZER;CN="Bobbie Cabibbo":MAILTO:bcabibbo@vof.org
END:VEVENT
END:VCALENDAR