BEGIN:VCALENDAR
VERSION:2.0
PRODID:-//Virginia Outdoors Foundation - ECPv6.15.20//NONSGML v1.0//EN
CALSCALE:GREGORIAN
METHOD:PUBLISH
X-WR-CALNAME:Virginia Outdoors Foundation
X-ORIGINAL-URL:https://www.vof.org
X-WR-CALDESC:Events for Virginia Outdoors Foundation
REFRESH-INTERVAL;VALUE=DURATION:PT1H
X-Robots-Tag:noindex
X-PUBLISHED-TTL:PT1H
BEGIN:VTIMEZONE
TZID:America/New_York
BEGIN:DAYLIGHT
TZOFFSETFROM:-0500
TZOFFSETTO:-0400
TZNAME:EDT
DTSTART:20190310T070000
END:DAYLIGHT
BEGIN:STANDARD
TZOFFSETFROM:-0400
TZOFFSETTO:-0500
TZNAME:EST
DTSTART:20191103T060000
END:STANDARD
BEGIN:DAYLIGHT
TZOFFSETFROM:-0500
TZOFFSETTO:-0400
TZNAME:EDT
DTSTART:20200308T070000
END:DAYLIGHT
BEGIN:STANDARD
TZOFFSETFROM:-0400
TZOFFSETTO:-0500
TZNAME:EST
DTSTART:20201101T060000
END:STANDARD
BEGIN:DAYLIGHT
TZOFFSETFROM:-0500
TZOFFSETTO:-0400
TZNAME:EDT
DTSTART:20210314T070000
END:DAYLIGHT
BEGIN:STANDARD
TZOFFSETFROM:-0400
TZOFFSETTO:-0500
TZNAME:EST
DTSTART:20211107T060000
END:STANDARD
END:VTIMEZONE
BEGIN:VEVENT
DTSTART;TZID=America/New_York:20200623T160000
DTEND;TZID=America/New_York:20200623T170000
DTSTAMP:20260421T085228
CREATED:20200609T153657Z
LAST-MODIFIED:20200612T171412Z
UID:11198-1592928000-1592931600@www.vof.org
SUMMARY:Special Forestry Committee
DESCRIPTION:Note: This meeting will be held virtually. The URL is in the Details section below. The Special Forestry Committee will meet to discuss projects and policies related to the Forest CORE Fund (MVP Region) grant program. This is a public meeting. If you would like to submit written public comments for anything related to this meeting\, please use our online form\, email them to comments@vof.org or mail them to our Warrenton office. Please include your name\, address\, and email address or daytime phone number for verification purposes. 								\n				\n				\n				\n					Documents				\n				\n				\n				\n							[letsbox dir="115462221074" mode="files" viewrole="administrator|author|contributor|editor|subscriber|guest" downloadrole="all" filelayout="list" ]
URL:https://www.vof.org/event/special-forestry-committee-2/
LOCATION:Virtual Meeting (See description for details)
CATEGORIES:Committee Meeting
ORGANIZER;CN="Bobbie Cabibbo":MAILTO:bcabibbo@vof.org
END:VEVENT
END:VCALENDAR