BEGIN:VCALENDAR
VERSION:2.0
PRODID:-//Virginia Outdoors Foundation - ECPv6.15.20//NONSGML v1.0//EN
CALSCALE:GREGORIAN
METHOD:PUBLISH
X-WR-CALNAME:Virginia Outdoors Foundation
X-ORIGINAL-URL:https://www.vof.org
X-WR-CALDESC:Events for Virginia Outdoors Foundation
REFRESH-INTERVAL;VALUE=DURATION:PT1H
X-Robots-Tag:noindex
X-PUBLISHED-TTL:PT1H
BEGIN:VTIMEZONE
TZID:America/New_York
BEGIN:DAYLIGHT
TZOFFSETFROM:-0500
TZOFFSETTO:-0400
TZNAME:EDT
DTSTART:20180311T070000
END:DAYLIGHT
BEGIN:STANDARD
TZOFFSETFROM:-0400
TZOFFSETTO:-0500
TZNAME:EST
DTSTART:20181104T060000
END:STANDARD
BEGIN:DAYLIGHT
TZOFFSETFROM:-0500
TZOFFSETTO:-0400
TZNAME:EDT
DTSTART:20190310T070000
END:DAYLIGHT
BEGIN:STANDARD
TZOFFSETFROM:-0400
TZOFFSETTO:-0500
TZNAME:EST
DTSTART:20191103T060000
END:STANDARD
BEGIN:DAYLIGHT
TZOFFSETFROM:-0500
TZOFFSETTO:-0400
TZNAME:EDT
DTSTART:20200308T070000
END:DAYLIGHT
BEGIN:STANDARD
TZOFFSETFROM:-0400
TZOFFSETTO:-0500
TZNAME:EST
DTSTART:20201101T060000
END:STANDARD
END:VTIMEZONE
BEGIN:VEVENT
DTSTART;TZID=America/New_York:20190926T103000
DTEND;TZID=America/New_York:20190926T170000
DTSTAMP:20260421T133237
CREATED:20190131T174024Z
LAST-MODIFIED:20190916T192831Z
UID:6574-1569493800-1569517200@www.vof.org
SUMMARY:Board of Trustees
DESCRIPTION:The VOF Board of Trustees will meet to discuss and take action on projects\, policies\, and related matters. This is a public meeting.\n\nIf you would like to submit written public comments for anything related to this meeting\, please use our online form\, email them to comments@vofonline.org or mail them to our Warrenton office. Please include your name\, address\, and email address or daytime phone number for verification purposes.								\n				\n				\n				\n					Meeting Documents				\n				\n				\n				\n							[letsbox dir="87312519083" mode="files" viewrole="administrator|editor|author|contributor|subscriber|guest" downloadrole="all" filelayout="list" ]
URL:https://www.vof.org/event/september-2019-board-of-trustees-meeting/
LOCATION:Germanna Community College\, Workforce Development and Technology Center\, 10000 Germanna Point Dr.\, Room 105A\, Fredericksburg\, VA\, 22408\, United States
CATEGORIES:Board Meeting
ORGANIZER;CN="Bobbie Cabibbo":MAILTO:bcabibbo@vof.org
GEO:38.2321781;-77.4936059
X-APPLE-STRUCTURED-LOCATION;VALUE=URI;X-ADDRESS=Germanna Community College Workforce Development and Technology Center 10000 Germanna Point Dr. Room 105A Fredericksburg VA 22408 United States;X-APPLE-RADIUS=500;X-TITLE=10000 Germanna Point Dr.\, Room 105A:geo:-77.4936059,38.2321781
END:VEVENT
END:VCALENDAR