BEGIN:VCALENDAR
VERSION:2.0
PRODID:-//Virginia Outdoors Foundation - ECPv6.15.20//NONSGML v1.0//EN
CALSCALE:GREGORIAN
METHOD:PUBLISH
X-WR-CALNAME:Virginia Outdoors Foundation
X-ORIGINAL-URL:https://www.vof.org
X-WR-CALDESC:Events for Virginia Outdoors Foundation
REFRESH-INTERVAL;VALUE=DURATION:PT1H
X-Robots-Tag:noindex
X-PUBLISHED-TTL:PT1H
BEGIN:VTIMEZONE
TZID:America/New_York
BEGIN:DAYLIGHT
TZOFFSETFROM:-0500
TZOFFSETTO:-0400
TZNAME:EDT
DTSTART:20110313T070000
END:DAYLIGHT
BEGIN:STANDARD
TZOFFSETFROM:-0400
TZOFFSETTO:-0500
TZNAME:EST
DTSTART:20111106T060000
END:STANDARD
BEGIN:DAYLIGHT
TZOFFSETFROM:-0500
TZOFFSETTO:-0400
TZNAME:EDT
DTSTART:20120311T070000
END:DAYLIGHT
BEGIN:STANDARD
TZOFFSETFROM:-0400
TZOFFSETTO:-0500
TZNAME:EST
DTSTART:20121104T060000
END:STANDARD
BEGIN:DAYLIGHT
TZOFFSETFROM:-0500
TZOFFSETTO:-0400
TZNAME:EDT
DTSTART:20130310T070000
END:DAYLIGHT
BEGIN:STANDARD
TZOFFSETFROM:-0400
TZOFFSETTO:-0500
TZNAME:EST
DTSTART:20131103T060000
END:STANDARD
END:VTIMEZONE
BEGIN:VEVENT
DTSTART;TZID=America/New_York:20121030T060000
DTEND;TZID=America/New_York:20121030T130000
DTSTAMP:20260419T163545
CREATED:20130222T001606Z
LAST-MODIFIED:20190714T221015Z
UID:3458-1351576800-1351602000@www.vof.org
SUMMARY:Board of Trustees
DESCRIPTION:The VOF Board of Trustees will review easement proposals and hear reports on policy and other matters from the staff. This is a public meeting. \n  \nFiles for Download (PDF format)\n[wpfilebase tag=list id=8 tpl=data-table pagenav=1 /]
URL:https://www.vof.org/event/october-2012-policy-and-easement-consideration/
LOCATION:Virginia Dept. of Forestry Building\, 2nd Floor Board Room\, 900 Natural Resources Dr.\, Charlottesville\, 22903\, United States
CATEGORIES:Board Meeting
ORGANIZER;CN="Bobbie Cabibbo":MAILTO:bcabibbo@vof.org
GEO:38.0222667;-78.5314107
X-APPLE-STRUCTURED-LOCATION;VALUE=URI;X-ADDRESS=Virginia Dept. of Forestry Building 2nd Floor Board Room 900 Natural Resources Dr. Charlottesville 22903 United States;X-APPLE-RADIUS=500;X-TITLE=900 Natural Resources Dr.:geo:-78.5314107,38.0222667
END:VEVENT
END:VCALENDAR