BEGIN:VCALENDAR
VERSION:2.0
PRODID:-//Virginia Outdoors Foundation - ECPv6.15.20//NONSGML v1.0//EN
CALSCALE:GREGORIAN
METHOD:PUBLISH
X-WR-CALNAME:Virginia Outdoors Foundation
X-ORIGINAL-URL:https://www.vof.org
X-WR-CALDESC:Events for Virginia Outdoors Foundation
REFRESH-INTERVAL;VALUE=DURATION:PT1H
X-Robots-Tag:noindex
X-PUBLISHED-TTL:PT1H
BEGIN:VTIMEZONE
TZID:America/New_York
BEGIN:DAYLIGHT
TZOFFSETFROM:-0500
TZOFFSETTO:-0400
TZNAME:EDT
DTSTART:20170312T070000
END:DAYLIGHT
BEGIN:STANDARD
TZOFFSETFROM:-0400
TZOFFSETTO:-0500
TZNAME:EST
DTSTART:20171105T060000
END:STANDARD
BEGIN:DAYLIGHT
TZOFFSETFROM:-0500
TZOFFSETTO:-0400
TZNAME:EDT
DTSTART:20180311T070000
END:DAYLIGHT
BEGIN:STANDARD
TZOFFSETFROM:-0400
TZOFFSETTO:-0500
TZNAME:EST
DTSTART:20181104T060000
END:STANDARD
BEGIN:DAYLIGHT
TZOFFSETFROM:-0500
TZOFFSETTO:-0400
TZNAME:EDT
DTSTART:20190310T070000
END:DAYLIGHT
BEGIN:STANDARD
TZOFFSETFROM:-0400
TZOFFSETTO:-0500
TZNAME:EST
DTSTART:20191103T060000
END:STANDARD
END:VTIMEZONE
BEGIN:VEVENT
DTSTART;TZID=America/New_York:20180123T130000
DTEND;TZID=America/New_York:20180123T140000
DTSTAMP:20260422T043903
CREATED:20180105T184758Z
LAST-MODIFIED:20190714T220038Z
UID:6267-1516712400-1516716000@www.vof.org
SUMMARY:Energy & Infrastructure Committee
DESCRIPTION:The VOF Energy and Infrastructure Committee will discuss policies and issues involving energy and infrastructure projects that affect VOF-protected land. This is a public meeting. \nIf you would like to submit written public comments for anything related to this meeting\, please use our online form\, email them to comments@vofonline.org or mail them to our Warrenton office. Comments must include your name\, address\, and daytime phone number for verification purposes\, or they will not be accepted as part of the official meeting record. \nMeeting Documents\n[wpfilebase tag=list id=77 tpl=data-table pagenav=1 /]
URL:https://www.vof.org/event/january-2018-energy-infrastructure-committee/
LOCATION:Germanna Community College\, Workforce Development and Technology Center\, 10000 Germanna Point Dr.\, Room 105A\, Fredericksburg\, VA\, 22408\, United States
CATEGORIES:Committee Meeting
ORGANIZER;CN="Bobbie Cabibbo":MAILTO:bcabibbo@vof.org
GEO:38.2321781;-77.4936059
X-APPLE-STRUCTURED-LOCATION;VALUE=URI;X-ADDRESS=Germanna Community College Workforce Development and Technology Center 10000 Germanna Point Dr. Room 105A Fredericksburg VA 22408 United States;X-APPLE-RADIUS=500;X-TITLE=10000 Germanna Point Dr.\, Room 105A:geo:-77.4936059,38.2321781
END:VEVENT
END:VCALENDAR