BEGIN:VCALENDAR
VERSION:2.0
PRODID:-//Virginia Outdoors Foundation - ECPv6.15.20//NONSGML v1.0//EN
CALSCALE:GREGORIAN
METHOD:PUBLISH
X-WR-CALNAME:Virginia Outdoors Foundation
X-ORIGINAL-URL:https://www.vof.org
X-WR-CALDESC:Events for Virginia Outdoors Foundation
REFRESH-INTERVAL;VALUE=DURATION:PT1H
X-Robots-Tag:noindex
X-PUBLISHED-TTL:PT1H
BEGIN:VTIMEZONE
TZID:America/New_York
BEGIN:DAYLIGHT
TZOFFSETFROM:-0500
TZOFFSETTO:-0400
TZNAME:EDT
DTSTART:20170312T070000
END:DAYLIGHT
BEGIN:STANDARD
TZOFFSETFROM:-0400
TZOFFSETTO:-0500
TZNAME:EST
DTSTART:20171105T060000
END:STANDARD
BEGIN:DAYLIGHT
TZOFFSETFROM:-0500
TZOFFSETTO:-0400
TZNAME:EDT
DTSTART:20180311T070000
END:DAYLIGHT
BEGIN:STANDARD
TZOFFSETFROM:-0400
TZOFFSETTO:-0500
TZNAME:EST
DTSTART:20181104T060000
END:STANDARD
BEGIN:DAYLIGHT
TZOFFSETFROM:-0500
TZOFFSETTO:-0400
TZNAME:EDT
DTSTART:20190310T070000
END:DAYLIGHT
BEGIN:STANDARD
TZOFFSETFROM:-0400
TZOFFSETTO:-0500
TZNAME:EST
DTSTART:20191103T060000
END:STANDARD
END:VTIMEZONE
BEGIN:VEVENT
DTSTART;TZID=America/New_York:20180215T100000
DTEND;TZID=America/New_York:20180215T170000
DTSTAMP:20260421T232311
CREATED:20171215T213026Z
LAST-MODIFIED:20190714T220846Z
UID:7388-1518688800-1518714000@www.vof.org
SUMMARY:Board of Trustees
DESCRIPTION:The VOF Board of Trustees will meet to discuss and take action on projects\, policies\, and related matters. This is a public meeting. \nThe first item on the agenda will be a closed meeting. The public comment period will begin no sooner than 11:15 am. The actual start time will depend on\n the ending of the closed session. \nIf you would like to submit written public comments for anything related to this meeting\, please use our online form\, email them to comments@vofonline.org or mail them to our Warrenton office. Please include your name\, address\, and email address or daytime phone number for verification purposes. \nMeeting Documents\n[wpfilebase tag=list id=80 tpl=data-table pagenav=1 /]
URL:https://www.vof.org/event/february-2018-board-trustees-meeting/
LOCATION:Virginia Dept. of Forestry Building\, 2nd Floor Board Room\, 900 Natural Resources Dr.\, Charlottesville\, 22903\, United States
CATEGORIES:Board Meeting
ORGANIZER;CN="Bobbie Cabibbo":MAILTO:bcabibbo@vof.org
GEO:38.0222667;-78.5314107
X-APPLE-STRUCTURED-LOCATION;VALUE=URI;X-ADDRESS=Virginia Dept. of Forestry Building 2nd Floor Board Room 900 Natural Resources Dr. Charlottesville 22903 United States;X-APPLE-RADIUS=500;X-TITLE=900 Natural Resources Dr.:geo:-78.5314107,38.0222667
END:VEVENT
END:VCALENDAR