BEGIN:VCALENDAR
VERSION:2.0
PRODID:-//Virginia Outdoors Foundation - ECPv6.15.20//NONSGML v1.0//EN
CALSCALE:GREGORIAN
METHOD:PUBLISH
X-WR-CALNAME:Virginia Outdoors Foundation
X-ORIGINAL-URL:https://www.vof.org
X-WR-CALDESC:Events for Virginia Outdoors Foundation
REFRESH-INTERVAL;VALUE=DURATION:PT1H
X-Robots-Tag:noindex
X-PUBLISHED-TTL:PT1H
BEGIN:VTIMEZONE
TZID:America/New_York
BEGIN:DAYLIGHT
TZOFFSETFROM:-0500
TZOFFSETTO:-0400
TZNAME:EDT
DTSTART:20180311T070000
END:DAYLIGHT
BEGIN:STANDARD
TZOFFSETFROM:-0400
TZOFFSETTO:-0500
TZNAME:EST
DTSTART:20181104T060000
END:STANDARD
BEGIN:DAYLIGHT
TZOFFSETFROM:-0500
TZOFFSETTO:-0400
TZNAME:EDT
DTSTART:20190310T070000
END:DAYLIGHT
BEGIN:STANDARD
TZOFFSETFROM:-0400
TZOFFSETTO:-0500
TZNAME:EST
DTSTART:20191103T060000
END:STANDARD
BEGIN:DAYLIGHT
TZOFFSETFROM:-0500
TZOFFSETTO:-0400
TZNAME:EDT
DTSTART:20200308T070000
END:DAYLIGHT
BEGIN:STANDARD
TZOFFSETFROM:-0400
TZOFFSETTO:-0500
TZNAME:EST
DTSTART:20201101T060000
END:STANDARD
END:VTIMEZONE
BEGIN:VEVENT
DTSTART;TZID=America/New_York:20190523T130000
DTEND;TZID=America/New_York:20190523T160000
DTSTAMP:20260420T091754
CREATED:20190509T160811Z
LAST-MODIFIED:20190807T151800Z
UID:9403-1558616400-1558627200@www.vof.org
SUMMARY:Energy and Infrastructure Committee
DESCRIPTION:The VOF Energy and Infrastructure Committee will discuss policies and issues involving energy and infrastructure projects that affect VOF-protected land. This is a public meeting. \nIf you would like to submit written public comments for anything related to this meeting\, please use our online form\, email them to comments@vofonline.org or mail them to our Warrenton office. Comments must include your name\, address\, and daytime phone number for verification purposes\, or they will not be accepted as part of the official meeting record. \nMeeting Documents\n[letsbox dir=”81127628317″ mode=”files” viewrole=”administrator|editor|author|contributor|subscriber|guest” downloadrole=”all” filelayout=”list”]
URL:https://www.vof.org/event/energy-and-infrastructure-committee/
LOCATION:Main Street Centre (24th Floor Conference Room)\, 600 East Main St.\, 24th Floor\, Richmond\, VA\, 23219\, United States
CATEGORIES:Committee Meeting
ORGANIZER;CN="Bobbie Cabibbo":MAILTO:bcabibbo@vof.org
GEO:37.5399487;-77.4385057
X-APPLE-STRUCTURED-LOCATION;VALUE=URI;X-ADDRESS=Main Street Centre (24th Floor Conference Room) 600 East Main St. 24th Floor Richmond VA 23219 United States;X-APPLE-RADIUS=500;X-TITLE=600 East Main St.\, 24th Floor:geo:-77.4385057,37.5399487
END:VEVENT
END:VCALENDAR